BEGIN:VCALENDAR
VERSION:2.0
PRODID:-//eventon.com NONSGML v1.0//EN
CALSCALE:GREGORIAN
METHOD:PUBLISH
BEGIN:VEVENT
UID:69e756d7e9305
DTSTAMP:20260421T105207Z
DTSTART:20260912T180000Z
DTEND:20260912T215900Z
LOCATION:
SUMMARY:GUITAR NIGHT PROJECT
DESCRIPTION:GUITAR NIGHT PROJECT\nhttps://www.rondat.com/events/guitar-nigh
 t-project-6/
URL:https://www.rondat.com/events/guitar-night-project-6/
END:VEVENT
END:VCALENDAR